BEGIN:VCALENDAR
VERSION:2.0
PRODID:-//wp-events-plugin.com//7.2.3.1//EN
BEGIN:VEVENT
UID:8@dritte.bsv-wesel.de
DTSTART;TZID=Europe/Berlin:20190411T190000
DTEND;TZID=Europe/Berlin:20190411T233000
DTSTAMP:20190324T193827Z
URL:https://dritte.bsv-wesel.de/events/amazonentreffen-3/
SUMMARY:Amazonentreffen
DESCRIPTION:
LOCATION:Gaststätte „Zur Linde“\, Wackenbrucher Str. 132\, Wesel\, NRW
 \, 46485\, Deutschland
GEO:51.65549;6.642550000000028
X-APPLE-STRUCTURED-LOCATION;VALUE=URI;X-ADDRESS=Wackenbrucher Str. 132\, We
 sel\, NRW\, 46485\, Deutschland;X-APPLE-RADIUS=100;X-TITLE=Gaststätte „
 Zur Linde“:geo:51.65549,6.642550000000028
END:VEVENT
BEGIN:VTIMEZONE
TZID:Europe/Berlin
X-LIC-LOCATION:Europe/Berlin
BEGIN:DAYLIGHT
DTSTART:20190331T030000
TZOFFSETFROM:+0100
TZOFFSETTO:+0200
TZNAME:CEST
END:DAYLIGHT
END:VTIMEZONE
END:VCALENDAR