BEGIN:VCALENDAR
VERSION:2.0
PRODID:-//wp-events-plugin.com//7.2.3.1//EN
BEGIN:VEVENT
UID:49@dritte.bsv-wesel.de
DTSTART;TZID=Europe/Berlin:20220904T134500
DTEND;TZID=Europe/Berlin:20220904T144500
DTSTAMP:20220823T123628Z
URL:https://dritte.bsv-wesel.de/events/antreten-der-bataillone-und-des-ber
 ittenen-reiterzuges/
SUMMARY:Antreten der Bataillone und des berittenen Reiterzuges
DESCRIPTION:13:45
LOCATION:Großer Markt\, Großer Markt\, Wesel\, NRW\, 46483\, Deutschland
GEO:51.6643079;6.629567899999984
X-APPLE-STRUCTURED-LOCATION;VALUE=URI;X-ADDRESS=Großer Markt\, Wesel\, NRW
 \, 46483\, Deutschland;X-APPLE-RADIUS=100;X-TITLE=Großer Markt:geo:51.664
 3079,6.629567899999984
END:VEVENT
BEGIN:VTIMEZONE
TZID:Europe/Berlin
X-LIC-LOCATION:Europe/Berlin
BEGIN:DAYLIGHT
DTSTART:20220327T030000
TZOFFSETFROM:+0100
TZOFFSETTO:+0200
TZNAME:CEST
END:DAYLIGHT
END:VTIMEZONE
END:VCALENDAR