BEGIN:VCALENDAR
VERSION:2.0
PRODID:-//wp-events-plugin.com//7.2.3.1//EN
BEGIN:VEVENT
UID:21@dritte.bsv-wesel.de
DTSTART;TZID=Europe/Berlin;VALUE=DATE:20190809
DTEND;TZID=Europe/Berlin;VALUE=DATE:20190812
DTSTAMP:20190322T075759Z
URL:https://dritte.bsv-wesel.de/events/ausflug-nach-heide-wesel/
SUMMARY:Ausflug nach Heide-Wesel
DESCRIPTION:
END:VEVENT
BEGIN:VTIMEZONE
TZID:Europe/Berlin
X-LIC-LOCATION:Europe/Berlin
BEGIN:DAYLIGHT
DTSTART:20190331T030000
TZOFFSETFROM:+0100
TZOFFSETTO:+0200
TZNAME:CEST
END:DAYLIGHT
END:VTIMEZONE
END:VCALENDAR