BEGIN:VCALENDAR
VERSION:2.0
PRODID:-//wp-events-plugin.com//7.2.3.1//EN
BEGIN:VEVENT
UID:60@dritte.bsv-wesel.de
DTSTART;TZID=Europe/Berlin:20221202T180000
DTEND;TZID=Europe/Berlin:20221202T234500
DTSTAMP:20221126T124149Z
URL:https://dritte.bsv-wesel.de/events/eisstockschiessen/
SUMMARY:Eisstockschießen
DESCRIPTION:
LOCATION:Kornmarkt\, Kornmarkt\, Wesel\, NRW\, 46483\, Deutschland
X-APPLE-STRUCTURED-LOCATION;VALUE=URI;X-ADDRESS=Kornmarkt\, Wesel\, NRW\, 4
 6483\, Deutschland;X-APPLE-RADIUS=100;X-TITLE=Kornmarkt:geo:0,0
END:VEVENT
BEGIN:VTIMEZONE
TZID:Europe/Berlin
X-LIC-LOCATION:Europe/Berlin
BEGIN:STANDARD
DTSTART:20221030T020000
TZOFFSETFROM:+0200
TZOFFSETTO:+0100
TZNAME:CET
END:STANDARD
END:VTIMEZONE
END:VCALENDAR