BEGIN:VCALENDAR
VERSION:2.0
PRODID:-//wp-events-plugin.com//7.2.3.1//EN
BEGIN:VEVENT
UID:53@dritte.bsv-wesel.de
DTSTART;TZID=Europe/Berlin:20220910T160000
DTEND;TZID=Europe/Berlin:20220910T181500
DTSTAMP:20220823T124133Z
URL:https://dritte.bsv-wesel.de/events/empfang-des-koenigspaares/
SUMMARY:Empfang des Königspaares
DESCRIPTION:\n 	Empfang des Königspaares durch die Bürgermeisterin im Rat
 haus\n 	Platzkonzert auf dem Kornmarkt\n 	Festzug der Bataillone und des b
 erittenen Reiterzuges durch die Stadt\n
LOCATION:Rathaus Wesel\, Klever-Tor-Platz 1\, Wesel\, Deutschland
X-APPLE-STRUCTURED-LOCATION;VALUE=URI;X-ADDRESS=Klever-Tor-Platz 1\, Wesel\
 , Deutschland;X-APPLE-RADIUS=100;X-TITLE=Rathaus Wesel:geo:0,0
END:VEVENT
BEGIN:VTIMEZONE
TZID:Europe/Berlin
X-LIC-LOCATION:Europe/Berlin
BEGIN:DAYLIGHT
DTSTART:20220327T030000
TZOFFSETFROM:+0100
TZOFFSETTO:+0200
TZNAME:CEST
END:DAYLIGHT
END:VTIMEZONE
END:VCALENDAR