BEGIN:VCALENDAR
VERSION:2.0
PRODID:-//wp-events-plugin.com//7.2.3.1//EN
BEGIN:VEVENT
UID:7@dritte.bsv-wesel.de
DTSTART;TZID=Europe/Berlin:20190504T100000
DTEND;TZID=Europe/Berlin:20190504T233000
DTSTAMP:20190324T211338Z
URL:https://dritte.bsv-wesel.de/events/herrentour/
SUMMARY:Herrentour
DESCRIPTION:
END:VEVENT
BEGIN:VTIMEZONE
TZID:Europe/Berlin
X-LIC-LOCATION:Europe/Berlin
BEGIN:DAYLIGHT
DTSTART:20190331T030000
TZOFFSETFROM:+0100
TZOFFSETTO:+0200
TZNAME:CEST
END:DAYLIGHT
END:VTIMEZONE
END:VCALENDAR