BEGIN:VCALENDAR
VERSION:2.0
PRODID:-//wp-events-plugin.com//7.2.3.1//EN
BEGIN:VEVENT
UID:48@dritte.bsv-wesel.de
DTSTART;TZID=Europe/Berlin:20220903T210000
DTEND;TZID=Europe/Berlin:20220903T235900
DTSTAMP:20220823T123518Z
URL:https://dritte.bsv-wesel.de/events/inthronisationsball/
SUMMARY:Inthronisationsball
DESCRIPTION:mit "The Daylights"
LOCATION:Festzelt an der Niederrheinhalle\, An de Tent 1\, Wesel\, Deutschl
 and
X-APPLE-STRUCTURED-LOCATION;VALUE=URI;X-ADDRESS=An de Tent 1\, Wesel\, Deut
 schland;X-APPLE-RADIUS=100;X-TITLE=Festzelt an der Niederrheinhalle:geo:0,
 0
END:VEVENT
BEGIN:VTIMEZONE
TZID:Europe/Berlin
X-LIC-LOCATION:Europe/Berlin
BEGIN:DAYLIGHT
DTSTART:20220327T030000
TZOFFSETFROM:+0100
TZOFFSETTO:+0200
TZNAME:CEST
END:DAYLIGHT
END:VTIMEZONE
END:VCALENDAR