BEGIN:VCALENDAR
VERSION:2.0
PRODID:-//wp-events-plugin.com//7.2.3.1//EN
BEGIN:VEVENT
UID:382@dritte.bsv-wesel.de
DTSTART;TZID=Europe/Berlin:20230205T111100
DTEND;TZID=Europe/Berlin:20230205T234500
DTSTAMP:20221126T125038Z
URL:https://dritte.bsv-wesel.de/events/karnevalkraenzchen-der-amazonen/
SUMMARY:Karnevalkränzchen der Amazonen
DESCRIPTION:
LOCATION:Saal Schepers\, Schermbecker Landstraße 120\, Wesel\, NRW\, 46485
 \, Deutschland
GEO:51.6614;6.661709999999971
X-APPLE-STRUCTURED-LOCATION;VALUE=URI;X-ADDRESS=Schermbecker Landstraße 12
 0\, Wesel\, NRW\, 46485\, Deutschland;X-APPLE-RADIUS=100;X-TITLE=Saal Sche
 pers:geo:51.6614,6.661709999999971
END:VEVENT
BEGIN:VTIMEZONE
TZID:Europe/Berlin
X-LIC-LOCATION:Europe/Berlin
BEGIN:STANDARD
DTSTART:20221030T020000
TZOFFSETFROM:+0200
TZOFFSETTO:+0100
TZNAME:CET
END:STANDARD
END:VTIMEZONE
END:VCALENDAR