BEGIN:VCALENDAR
VERSION:2.0
PRODID:-//wp-events-plugin.com//7.2.3.1//EN
BEGIN:VEVENT
UID:28@dritte.bsv-wesel.de
DTSTART;TZID=Europe/Berlin:20191207T190000
DTEND;TZID=Europe/Berlin:20191207T233000
DTSTAMP:20190322T080508Z
URL:https://dritte.bsv-wesel.de/events/nikolausversammlung/
SUMMARY:Nikolausversammlung
DESCRIPTION:
END:VEVENT
BEGIN:VTIMEZONE
TZID:Europe/Berlin
X-LIC-LOCATION:Europe/Berlin
BEGIN:STANDARD
DTSTART:20191027T020000
TZOFFSETFROM:+0200
TZOFFSETTO:+0100
TZNAME:CET
END:STANDARD
END:VTIMEZONE
END:VCALENDAR