BEGIN:VCALENDAR
VERSION:2.0
PRODID:-//wp-events-plugin.com//7.2.3.1//EN
BEGIN:VEVENT
UID:54@dritte.bsv-wesel.de
DTSTART;TZID=Europe/Berlin:20220910T181500
DTEND;TZID=Europe/Berlin:20220910T200000
DTSTAMP:20220823T124213Z
URL:https://dritte.bsv-wesel.de/events/parade-an-der-niederrheinhalle-2/
SUMMARY:Parade an der Niederrheinhalle
DESCRIPTION:
LOCATION:Niederrheinhalle Wesel\, An de Tent 1\, Wesel\, NRW\, 46485\, Deut
 schland
GEO:51.6524437;6.629079300000058
X-APPLE-STRUCTURED-LOCATION;VALUE=URI;X-ADDRESS=An de Tent 1\, Wesel\, NRW\
 , 46485\, Deutschland;X-APPLE-RADIUS=100;X-TITLE=Niederrheinhalle Wesel:ge
 o:51.6524437,6.629079300000058
END:VEVENT
BEGIN:VTIMEZONE
TZID:Europe/Berlin
X-LIC-LOCATION:Europe/Berlin
BEGIN:DAYLIGHT
DTSTART:20220327T030000
TZOFFSETFROM:+0100
TZOFFSETTO:+0200
TZNAME:CEST
END:DAYLIGHT
END:VTIMEZONE
END:VCALENDAR