BEGIN:VCALENDAR
VERSION:2.0
PRODID:-//wp-events-plugin.com//7.2.3.1//EN
BEGIN:VEVENT
UID:387@dritte.bsv-wesel.de
DTSTART;TZID=Europe/Berlin;VALUE=DATE:20230519
DTEND;TZID=Europe/Berlin;VALUE=DATE:20230523
DTSTAMP:20221126T125428Z
URL:https://dritte.bsv-wesel.de/events/schuetzenfest-in-heide-wesel-2/
SUMMARY:Schützenfest in Heide-Wesel
DESCRIPTION:
END:VEVENT
BEGIN:VTIMEZONE
TZID:Europe/Berlin
X-LIC-LOCATION:Europe/Berlin
BEGIN:DAYLIGHT
DTSTART:20230326T030000
TZOFFSETFROM:+0100
TZOFFSETTO:+0200
TZNAME:CEST
END:DAYLIGHT
END:VTIMEZONE
END:VCALENDAR