BEGIN:VCALENDAR
VERSION:2.0
PRODID:-//wp-events-plugin.com//7.2.3.1//EN
BEGIN:VEVENT
UID:59@dritte.bsv-wesel.de
DTSTART;TZID=Europe/Berlin:20221113T114500
DTEND;TZID=Europe/Berlin:20221113T130000
DTSTAMP:20221031T132239Z
URL:https://dritte.bsv-wesel.de/events/volkstrauertag/
SUMMARY:Volkstrauertag
DESCRIPTION:
LOCATION:Friedhof Caspar-Baur-Straße\, Caspar-Baur-Straße 22\, Wesel\, NR
 W\, 46483\, Deutschland
X-APPLE-STRUCTURED-LOCATION;VALUE=URI;X-ADDRESS=Caspar-Baur-Straße 22\, We
 sel\, NRW\, 46483\, Deutschland;X-APPLE-RADIUS=100;X-TITLE=Friedhof Caspar
 -Baur-Straße:geo:0,0
END:VEVENT
BEGIN:VTIMEZONE
TZID:Europe/Berlin
X-LIC-LOCATION:Europe/Berlin
BEGIN:STANDARD
DTSTART:20221030T020000
TZOFFSETFROM:+0200
TZOFFSETTO:+0100
TZNAME:CET
END:STANDARD
END:VTIMEZONE
END:VCALENDAR