BEGIN:VCALENDAR
VERSION:2.0
PRODID:-//wp-events-plugin.com//7.2.3.1//EN
BEGIN:VEVENT
UID:32@dritte.bsv-wesel.de
DTSTART;TZID=Europe/Berlin:20190802T193000
DTEND;TZID=Europe/Berlin:20190802T235900
DTSTAMP:20190716T184909Z
URL:https://dritte.bsv-wesel.de/events/weseler-schuetzentag/
SUMMARY:Weseler Schützentag
DESCRIPTION:
LOCATION:Zitadelle\, Schillstraße\, Wesel\, NRW\, 46483\, Deutschland
X-APPLE-STRUCTURED-LOCATION;VALUE=URI;X-ADDRESS=Schillstraße\, Wesel\, NRW
 \, 46483\, Deutschland;X-APPLE-RADIUS=100;X-TITLE=Zitadelle:geo:0,0
END:VEVENT
BEGIN:VTIMEZONE
TZID:Europe/Berlin
X-LIC-LOCATION:Europe/Berlin
BEGIN:DAYLIGHT
DTSTART:20190331T030000
TZOFFSETFROM:+0100
TZOFFSETTO:+0200
TZNAME:CEST
END:DAYLIGHT
END:VTIMEZONE
END:VCALENDAR